Package: scMerge Version: 1.22.0 Command: rm -rf scMerge.buildbin-libdir && mkdir scMerge.buildbin-libdir && /Users/biocbuild/BBS/utils/build-universal.sh scMerge_1.22.0.tar.gz /Library/Frameworks/R.framework/Resources/bin/R scMerge.buildbin-libdir StartedAt: 2025-04-02 16:12:51 -0400 (Wed, 02 Apr 2025) EndedAt: 2025-04-02 16:13:42 -0400 (Wed, 02 Apr 2025) EllapsedTime: 50.6 seconds RetCode: 0 Status: OK PackageFile: scMerge_1.22.0.tgz PackageFileSize: 3.548 MiB