Package: scMET Version: 1.8.0 Command: /Library/Frameworks/R.framework/Resources/bin/R CMD check --install=check:scMET.install-out.txt --library=/Library/Frameworks/R.framework/Resources/library --no-vignettes --timings scMET_1.8.0.tar.gz StartedAt: 2025-04-01 08:47:40 -0400 (Tue, 01 Apr 2025) EndedAt: 2025-04-01 08:53:08 -0400 (Tue, 01 Apr 2025) EllapsedTime: 328.1 seconds RetCode: 0 Status: OK CheckDir: scMET.Rcheck Warnings: 0