Package: scMET Version: 1.8.0 Command: /Library/Frameworks/R.framework/Resources/bin/R CMD build --keep-empty-dirs --no-resave-data scMET StartedAt: 2025-03-31 21:47:03 -0400 (Mon, 31 Mar 2025) EndedAt: 2025-03-31 21:54:01 -0400 (Mon, 31 Mar 2025) EllapsedTime: 417.8 seconds RetCode: 0 Status: OK PackageFile: scMET_1.8.0.tar.gz PackageFileSize: 3.282 MiB