Package: scHOT Version: 1.18.0 Command: /Library/Frameworks/R.framework/Resources/bin/R CMD check --install=check:scHOT.install-out.txt --library=/Library/Frameworks/R.framework/Resources/library --no-vignettes --timings scHOT_1.18.0.tar.gz StartedAt: 2025-04-02 07:48:47 -0400 (Wed, 02 Apr 2025) EndedAt: 2025-04-02 07:53:24 -0400 (Wed, 02 Apr 2025) EllapsedTime: 277.8 seconds RetCode: 0 Status: OK CheckDir: scHOT.Rcheck Warnings: 0