Package: scGPS Version: 1.20.0 Command: /Library/Frameworks/R.framework/Resources/bin/R CMD build --keep-empty-dirs --no-resave-data scGPS StartedAt: 2025-03-31 21:45:41 -0400 (Mon, 31 Mar 2025) EndedAt: 2025-03-31 21:59:05 -0400 (Mon, 31 Mar 2025) EllapsedTime: 803.8 seconds RetCode: 0 Status: OK PackageFile: scGPS_1.20.0.tar.gz PackageFileSize: 2.026 MiB