Package: scGPS Version: 1.20.0 Command: rm -rf scGPS.buildbin-libdir && mkdir scGPS.buildbin-libdir && /Users/biocbuild/BBS/utils/build-universal.sh scGPS_1.20.0.tar.gz /Library/Frameworks/R.framework/Resources/bin/R scGPS.buildbin-libdir StartedAt: 2025-04-01 12:42:39 -0400 (Tue, 01 Apr 2025) EndedAt: 2025-04-01 12:44:36 -0400 (Tue, 01 Apr 2025) EllapsedTime: 117.0 seconds RetCode: 0 Status: OK PackageFile: scGPS_1.20.0.tgz PackageFileSize: 2.743 MiB