Package: scFeatures Version: 1.6.0 Command: /home/biocbuild/R/R/bin/R CMD check --install=check:scFeatures.install-out.txt --library=/home/biocbuild/R/R/site-library --no-vignettes --timings scFeatures_1.6.0.tar.gz StartedAt: 2025-04-01 10:27:10 -0000 (Tue, 01 Apr 2025) EndedAt: 2025-04-01 10:34:47 -0000 (Tue, 01 Apr 2025) EllapsedTime: 457.5 seconds RetCode: 0 Status: OK CheckDir: scFeatures.Rcheck Warnings: 0