Package: scFeatures Version: 1.6.0 Command: rm -rf scFeatures.buildbin-libdir && mkdir scFeatures.buildbin-libdir && F:\biocbuild\bbs-3.20-bioc\R\bin\R.exe CMD INSTALL --build --library=scFeatures.buildbin-libdir scFeatures_1.6.0.tar.gz StartedAt: 2025-04-01 09:09:51 -0400 (Tue, 01 Apr 2025) EndedAt: 2025-04-01 09:11:10 -0400 (Tue, 01 Apr 2025) EllapsedTime: 79.8 seconds RetCode: 0 Status: OK PackageFile: scFeatures_1.6.0.zip PackageFileSize: 3.019 MiB