Package: scFeatures Version: 1.6.0 Command: /home/biocbuild/bbs-3.20-bioc/R/bin/R CMD INSTALL scFeatures StartedAt: 2025-03-31 15:55:05 -0400 (Mon, 31 Mar 2025) EndedAt: 2025-03-31 15:55:59 -0400 (Mon, 31 Mar 2025) EllapsedTime: 53.7 seconds RetCode: 0 Status: OK