Package: scFeatures Version: 1.6.0 Command: /Library/Frameworks/R.framework/Resources/bin/R CMD INSTALL scFeatures StartedAt: 2025-03-31 16:29:22 -0400 (Mon, 31 Mar 2025) EndedAt: 2025-03-31 16:31:18 -0400 (Mon, 31 Mar 2025) EllapsedTime: 116.2 seconds RetCode: 0 Status: OK