Package: scFeatures Version: 1.6.0 Command: /Library/Frameworks/R.framework/Resources/bin/R CMD INSTALL scFeatures StartedAt: 2024-11-19 15:43:51 -0500 (Tue, 19 Nov 2024) EndedAt: 2024-11-19 15:45:12 -0500 (Tue, 19 Nov 2024) EllapsedTime: 81.7 seconds RetCode: 0 Status: OK