Package: scFeatures Version: 1.6.0 Command: /Library/Frameworks/R.framework/Resources/bin/R CMD check --install=check:scFeatures.install-out.txt --library=/Library/Frameworks/R.framework/Resources/library --no-vignettes --timings scFeatures_1.6.0.tar.gz StartedAt: 2025-04-02 07:45:39 -0400 (Wed, 02 Apr 2025) EndedAt: 2025-04-02 07:53:32 -0400 (Wed, 02 Apr 2025) EllapsedTime: 473.1 seconds RetCode: 0 Status: OK CheckDir: scFeatures.Rcheck Warnings: 0