Package: scFeatures Version: 1.6.0 Command: /Library/Frameworks/R.framework/Resources/bin/R CMD build --keep-empty-dirs --no-resave-data scFeatures StartedAt: 2025-04-01 07:05:26 -0400 (Tue, 01 Apr 2025) EndedAt: 2025-04-01 07:07:39 -0400 (Tue, 01 Apr 2025) EllapsedTime: 133.0 seconds RetCode: 0 Status: OK PackageFile: scFeatures_1.6.0.tar.gz PackageFileSize: 2.928 MiB