Package: scDotPlot Version: 1.0.0 Command: /home/biocbuild/R/R/bin/R CMD check --install=check:scDotPlot.install-out.txt --library=/home/biocbuild/R/R/site-library --no-vignettes --timings scDotPlot_1.0.0.tar.gz StartedAt: 2025-04-01 10:25:01 -0000 (Tue, 01 Apr 2025) EndedAt: 2025-04-01 10:30:28 -0000 (Tue, 01 Apr 2025) EllapsedTime: 327.3 seconds RetCode: 0 Status: OK CheckDir: scDotPlot.Rcheck Warnings: 0