Package: scDotPlot Version: 1.0.0 Command: /Library/Frameworks/R.framework/Resources/bin/R CMD build --keep-empty-dirs --no-resave-data scDotPlot StartedAt: 2025-04-01 07:03:43 -0400 (Tue, 01 Apr 2025) EndedAt: 2025-04-01 07:05:26 -0400 (Tue, 01 Apr 2025) EllapsedTime: 103.2 seconds RetCode: 0 Status: OK PackageFile: scDotPlot_1.0.0.tar.gz PackageFileSize: 1.954 MiB