Package: scDotPlot Version: 1.0.0 Command: rm -rf scDotPlot.buildbin-libdir && mkdir scDotPlot.buildbin-libdir && /Users/biocbuild/BBS/utils/build-universal.sh scDotPlot_1.0.0.tar.gz /Library/Frameworks/R.framework/Resources/bin/R scDotPlot.buildbin-libdir StartedAt: 2025-04-02 16:11:34 -0400 (Wed, 02 Apr 2025) EndedAt: 2025-04-02 16:12:23 -0400 (Wed, 02 Apr 2025) EllapsedTime: 48.9 seconds RetCode: 0 Status: OK PackageFile: scDotPlot_1.0.0.tgz PackageFileSize: 1.983 MiB