Package: scDesign3 Version: 1.4.0 Command: rm -rf scDesign3.buildbin-libdir && mkdir scDesign3.buildbin-libdir && F:\biocbuild\bbs-3.20-bioc\R\bin\R.exe CMD INSTALL --build --library=scDesign3.buildbin-libdir scDesign3_1.4.0.tar.gz StartedAt: 2025-04-01 09:09:20 -0400 (Tue, 01 Apr 2025) EndedAt: 2025-04-01 09:09:42 -0400 (Tue, 01 Apr 2025) EllapsedTime: 22.1 seconds RetCode: 0 Status: OK PackageFile: scDesign3_1.4.0.zip PackageFileSize: 922.6 KiB