Package: scDesign3 Version: 1.4.0 Command: /Library/Frameworks/R.framework/Resources/bin/R CMD INSTALL scDesign3 StartedAt: 2025-03-31 16:15:38 -0400 (Mon, 31 Mar 2025) EndedAt: 2025-03-31 16:15:58 -0400 (Mon, 31 Mar 2025) EllapsedTime: 19.7 seconds RetCode: 0 Status: OK