Package: scDesign3 Version: 1.4.0 Command: /Library/Frameworks/R.framework/Resources/bin/R CMD build --keep-empty-dirs --no-resave-data scDesign3 StartedAt: 2025-04-01 07:02:53 -0400 (Tue, 01 Apr 2025) EndedAt: 2025-04-01 07:04:05 -0400 (Tue, 01 Apr 2025) EllapsedTime: 71.4 seconds RetCode: 0 Status: OK PackageFile: scDesign3_1.4.0.tar.gz PackageFileSize: 1008 KiB