Package: scDblFinder Version: 1.20.2 Command: F:\biocbuild\bbs-3.20-bioc\R\bin\R.exe CMD INSTALL scDblFinder StartedAt: 2025-03-31 16:55:07 -0400 (Mon, 31 Mar 2025) EndedAt: 2025-03-31 16:56:10 -0400 (Mon, 31 Mar 2025) EllapsedTime: 63.0 seconds RetCode: 0 Status: OK