Package: scDblFinder Version: 1.20.2 Command: chmod a+r scDblFinder -R && F:\biocbuild\bbs-3.20-bioc\R\bin\R.exe CMD build --keep-empty-dirs --no-resave-data scDblFinder StartedAt: 2025-03-31 21:41:22 -0400 (Mon, 31 Mar 2025) EndedAt: 2025-03-31 21:44:52 -0400 (Mon, 31 Mar 2025) EllapsedTime: 210.5 seconds RetCode: 0 Status: OK PackageFile: scDblFinder_1.20.2.tar.gz PackageFileSize: 1.864 MiB