Package: scDblFinder Version: 1.20.2 Command: /Library/Frameworks/R.framework/Resources/bin/R CMD INSTALL scDblFinder StartedAt: 2025-03-31 16:27:39 -0400 (Mon, 31 Mar 2025) EndedAt: 2025-03-31 16:29:05 -0400 (Mon, 31 Mar 2025) EllapsedTime: 86.1 seconds RetCode: 0 Status: OK