Package: scDataviz Version: 1.16.0 Command: rm -rf scDataviz.buildbin-libdir && mkdir scDataviz.buildbin-libdir && F:\biocbuild\bbs-3.20-bioc\R\bin\R.exe CMD INSTALL --build --library=scDataviz.buildbin-libdir scDataviz_1.16.0.tar.gz StartedAt: 2025-04-01 09:09:09 -0400 (Tue, 01 Apr 2025) EndedAt: 2025-04-01 09:10:01 -0400 (Tue, 01 Apr 2025) EllapsedTime: 51.9 seconds RetCode: 0 Status: OK PackageFile: scDataviz_1.16.0.zip PackageFileSize: 2.91 MiB