Package: scClassify Version: 1.18.0 Command: /home/biocbuild/R/R/bin/R CMD INSTALL scClassify StartedAt: 2025-03-31 20:58:45 -0000 (Mon, 31 Mar 2025) EndedAt: 2025-03-31 20:59:31 -0000 (Mon, 31 Mar 2025) EllapsedTime: 45.8 seconds RetCode: 0 Status: OK