Package: scClassify Version: 1.18.0 Command: /Library/Frameworks/R.framework/Resources/bin/R CMD INSTALL scClassify StartedAt: 2025-03-31 16:19:19 -0400 (Mon, 31 Mar 2025) EndedAt: 2025-03-31 16:20:34 -0400 (Mon, 31 Mar 2025) EllapsedTime: 74.1 seconds RetCode: 0 Status: OK