Package: scClassify Version: 1.18.0 Command: /Library/Frameworks/R.framework/Resources/bin/R CMD build --keep-empty-dirs --no-resave-data scClassify StartedAt: 2025-03-31 21:43:04 -0400 (Mon, 31 Mar 2025) EndedAt: 2025-03-31 21:46:47 -0400 (Mon, 31 Mar 2025) EllapsedTime: 223.6 seconds RetCode: 0 Status: OK PackageFile: scClassify_1.18.0.tar.gz PackageFileSize: 2.91 MiB