Package: scClassify Version: 1.18.0 Command: /Library/Frameworks/R.framework/Resources/bin/R CMD INSTALL scClassify StartedAt: 2025-03-31 17:31:59 -0400 (Mon, 31 Mar 2025) EndedAt: 2025-03-31 17:32:40 -0400 (Mon, 31 Mar 2025) EllapsedTime: 40.8 seconds RetCode: 0 Status: OK