Package: scClassify Version: 1.18.0 Command: rm -rf scClassify.buildbin-libdir && mkdir scClassify.buildbin-libdir && /Users/biocbuild/BBS/utils/build-universal.sh scClassify_1.18.0.tar.gz /Library/Frameworks/R.framework/Resources/bin/R scClassify.buildbin-libdir StartedAt: 2025-04-02 16:10:30 -0400 (Wed, 02 Apr 2025) EndedAt: 2025-04-02 16:11:16 -0400 (Wed, 02 Apr 2025) EllapsedTime: 45.4 seconds RetCode: 0 Status: OK PackageFile: scClassify_1.18.0.tgz PackageFileSize: 3.332 MiB