Package: scCB2 Version: 1.16.0 Command: /home/biocbuild/R/R/bin/R CMD INSTALL scCB2 StartedAt: 2025-03-31 20:53:54 -0000 (Mon, 31 Mar 2025) EndedAt: 2025-03-31 20:54:44 -0000 (Mon, 31 Mar 2025) EllapsedTime: 50.6 seconds RetCode: 0 Status: OK