Package: scCB2 Version: 1.16.0 Command: /home/biocbuild/R/R/bin/R CMD build --keep-empty-dirs --no-resave-data scCB2 StartedAt: 2025-04-01 02:22:37 -0000 (Tue, 01 Apr 2025) EndedAt: 2025-04-01 02:28:44 -0000 (Tue, 01 Apr 2025) EllapsedTime: 366.4 seconds RetCode: 0 Status: OK PackageFile: scCB2_1.16.0.tar.gz PackageFileSize: 871 KiB