Package: scBubbletree Version: 1.8.0 Command: chmod a+r scBubbletree -R && F:\biocbuild\bbs-3.20-bioc\R\bin\R.exe CMD build --keep-empty-dirs --no-resave-data scBubbletree StartedAt: 2025-03-31 21:40:43 -0400 (Mon, 31 Mar 2025) EndedAt: 2025-03-31 21:47:58 -0400 (Mon, 31 Mar 2025) EllapsedTime: 435.4 seconds RetCode: 0 Status: OK PackageFile: scBubbletree_1.8.0.tar.gz PackageFileSize: 3.905 MiB