Package: scAnnotatR Version: 1.12.0 Command: /home/biocbuild/R/R/bin/R CMD check --install=check:scAnnotatR.install-out.txt --library=/home/biocbuild/R/R/site-library --no-vignettes --timings scAnnotatR_1.12.0.tar.gz StartedAt: 2025-04-01 10:20:37 -0000 (Tue, 01 Apr 2025) EndedAt: 2025-04-01 10:28:54 -0000 (Tue, 01 Apr 2025) EllapsedTime: 497.5 seconds RetCode: 0 Status: WARNINGS CheckDir: scAnnotatR.Rcheck Warnings: 1