Package: scAnnotatR Version: 1.12.0 Command: /home/biocbuild/bbs-3.20-bioc/R/bin/R CMD build --keep-empty-dirs --no-resave-data --md5 scAnnotatR StartedAt: 2025-03-31 18:56:01 -0400 (Mon, 31 Mar 2025) EndedAt: 2025-03-31 19:05:33 -0400 (Mon, 31 Mar 2025) EllapsedTime: 572.5 seconds RetCode: 0 Status: OK PackageFile: scAnnotatR_1.12.0.tar.gz PackageFileSize: 562.7 KiB