Package: satuRn Version: 1.14.0 Command: /home/biocbuild/R/R/bin/R CMD INSTALL satuRn StartedAt: 2025-03-31 20:31:57 -0000 (Mon, 31 Mar 2025) EndedAt: 2025-03-31 20:32:26 -0000 (Mon, 31 Mar 2025) EllapsedTime: 28.6 seconds RetCode: 0 Status: OK