Package: satuRn Version: 1.14.0 Command: /Library/Frameworks/R.framework/Resources/bin/R CMD INSTALL satuRn StartedAt: 2025-03-31 15:34:00 -0400 (Mon, 31 Mar 2025) EndedAt: 2025-03-31 15:34:46 -0400 (Mon, 31 Mar 2025) EllapsedTime: 45.9 seconds RetCode: 0 Status: OK