Package: satuRn Version: 1.14.0 Command: /Library/Frameworks/R.framework/Resources/bin/R CMD build --keep-empty-dirs --no-resave-data satuRn StartedAt: 2025-04-01 06:47:29 -0400 (Tue, 01 Apr 2025) EndedAt: 2025-04-01 06:48:58 -0400 (Tue, 01 Apr 2025) EllapsedTime: 88.8 seconds RetCode: 0 Status: OK PackageFile: satuRn_1.14.0.tar.gz PackageFileSize: 3.695 MiB