Package: saseR Version: 1.2.0 Command: /home/biocbuild/R/R/bin/R CMD INSTALL saseR StartedAt: 2025-03-31 20:59:47 -0000 (Mon, 31 Mar 2025) EndedAt: 2025-03-31 21:00:59 -0000 (Mon, 31 Mar 2025) EllapsedTime: 71.7 seconds RetCode: 0 Status: OK