Package: saseR Version: 1.2.0 Command: /home/biocbuild/R/R/bin/R CMD build --keep-empty-dirs --no-resave-data saseR StartedAt: 2025-04-01 02:19:02 -0000 (Tue, 01 Apr 2025) EndedAt: 2025-04-01 02:23:01 -0000 (Tue, 01 Apr 2025) EllapsedTime: 239.2 seconds RetCode: 0 Status: OK PackageFile: saseR_1.2.0.tar.gz PackageFileSize: 1.231 MiB