Package: sangerseqR Version: 1.42.0 Command: /home/biocbuild/R/R/bin/R CMD build --keep-empty-dirs --no-resave-data sangerseqR StartedAt: 2025-04-01 02:18:44 -0000 (Tue, 01 Apr 2025) EndedAt: 2025-04-01 02:19:31 -0000 (Tue, 01 Apr 2025) EllapsedTime: 47.0 seconds RetCode: 0 Status: OK PackageFile: sangerseqR_1.42.0.tar.gz PackageFileSize: 2.125 MiB