Package: sangerseqR Version: 1.42.0 Command: F:\biocbuild\bbs-3.20-bioc\R\bin\R.exe CMD INSTALL sangerseqR StartedAt: 2025-03-31 15:57:30 -0400 (Mon, 31 Mar 2025) EndedAt: 2025-03-31 15:58:10 -0400 (Mon, 31 Mar 2025) EllapsedTime: 39.2 seconds RetCode: 0 Status: OK