Package: sangerseqR Version: 1.42.0 Command: /Library/Frameworks/R.framework/Resources/bin/R CMD check --install=check:sangerseqR.install-out.txt --library=/Library/Frameworks/R.framework/Resources/library --no-vignettes --timings sangerseqR_1.42.0.tar.gz StartedAt: 2025-04-01 08:30:38 -0400 (Tue, 01 Apr 2025) EndedAt: 2025-04-01 08:35:09 -0400 (Tue, 01 Apr 2025) EllapsedTime: 270.7 seconds RetCode: 0 Status: OK CheckDir: sangerseqR.Rcheck Warnings: 0