Package: sangerseqR Version: 1.42.0 Command: /Library/Frameworks/R.framework/Resources/bin/R CMD build --keep-empty-dirs --no-resave-data sangerseqR StartedAt: 2025-04-01 06:46:12 -0400 (Tue, 01 Apr 2025) EndedAt: 2025-04-01 06:46:53 -0400 (Tue, 01 Apr 2025) EllapsedTime: 40.5 seconds RetCode: 0 Status: OK PackageFile: sangerseqR_1.42.0.tar.gz PackageFileSize: 2.934 MiB