Package: sangerseqR Version: 1.42.0 Command: rm -rf sangerseqR.buildbin-libdir && mkdir sangerseqR.buildbin-libdir && /Users/biocbuild/BBS/utils/build-universal.sh sangerseqR_1.42.0.tar.gz /Library/Frameworks/R.framework/Resources/bin/R sangerseqR.buildbin-libdir StartedAt: 2025-04-02 16:08:04 -0400 (Wed, 02 Apr 2025) EndedAt: 2025-04-02 16:08:23 -0400 (Wed, 02 Apr 2025) EllapsedTime: 18.2 seconds RetCode: 0 Status: OK PackageFile: sangerseqR_1.42.0.tgz PackageFileSize: 3.15 MiB