Package: sampleClassifier Version: 1.30.0 Command: F:\biocbuild\bbs-3.20-bioc\R\bin\R.exe CMD check --no-multiarch --install=check:sampleClassifier.install-out.txt --library=F:\biocbuild\bbs-3.20-bioc\R\library --no-vignettes --timings sampleClassifier_1.30.0.tar.gz StartedAt: 2025-04-01 05:32:09 -0400 (Tue, 01 Apr 2025) EndedAt: 2025-04-01 05:37:13 -0400 (Tue, 01 Apr 2025) EllapsedTime: 304.6 seconds RetCode: 0 Status: OK CheckDir: sampleClassifier.Rcheck Warnings: 0