Package: safe Version: 3.46.0 Command: /home/biocbuild/R/R/bin/R CMD check --install=check:safe.install-out.txt --library=/home/biocbuild/R/R/site-library --no-vignettes --timings safe_3.46.0.tar.gz StartedAt: 2025-04-01 10:16:57 -0000 (Tue, 01 Apr 2025) EndedAt: 2025-04-01 10:18:45 -0000 (Tue, 01 Apr 2025) EllapsedTime: 108.1 seconds RetCode: 0 Status: OK CheckDir: safe.Rcheck Warnings: 0