Package: safe Version: 3.46.0 Command: /home/biocbuild/R/R/bin/R CMD build --keep-empty-dirs --no-resave-data safe StartedAt: 2025-04-01 02:17:53 -0000 (Tue, 01 Apr 2025) EndedAt: 2025-04-01 02:23:02 -0000 (Tue, 01 Apr 2025) EllapsedTime: 309.3 seconds RetCode: 0 Status: OK PackageFile: safe_3.46.0.tar.gz PackageFileSize: 698.8 KiB