Package: safe Version: 3.46.0 Command: chmod a+r safe -R && F:\biocbuild\bbs-3.20-bioc\R\bin\R.exe CMD build --keep-empty-dirs --no-resave-data safe StartedAt: 2025-03-31 21:37:53 -0400 (Mon, 31 Mar 2025) EndedAt: 2025-03-31 21:43:47 -0400 (Mon, 31 Mar 2025) EllapsedTime: 354.1 seconds RetCode: 0 Status: OK PackageFile: safe_3.46.0.tar.gz PackageFileSize: 520.2 KiB