Package: safe Version: 3.46.0 Command: rm -rf safe.buildbin-libdir && mkdir safe.buildbin-libdir && /Users/biocbuild/BBS/utils/build-universal.sh safe_3.46.0.tar.gz /Library/Frameworks/R.framework/Resources/bin/R safe.buildbin-libdir StartedAt: 2025-04-01 12:40:20 -0400 (Tue, 01 Apr 2025) EndedAt: 2025-04-01 12:40:55 -0400 (Tue, 01 Apr 2025) EllapsedTime: 35.1 seconds RetCode: 0 Status: OK PackageFile: safe_3.46.0.tgz PackageFileSize: 896 KiB