Package: safe Version: 3.46.0 Command: /Library/Frameworks/R.framework/Resources/bin/R CMD INSTALL safe StartedAt: 2025-03-31 15:45:52 -0400 (Mon, 31 Mar 2025) EndedAt: 2025-03-31 15:46:07 -0400 (Mon, 31 Mar 2025) EllapsedTime: 15.3 seconds RetCode: 0 Status: OK