Package: safe Version: 3.46.0 Command: /Library/Frameworks/R.framework/Resources/bin/R CMD check --install=check:safe.install-out.txt --library=/Library/Frameworks/R.framework/Resources/library --no-vignettes --timings safe_3.46.0.tar.gz StartedAt: 2025-04-02 07:14:46 -0400 (Wed, 02 Apr 2025) EndedAt: 2025-04-02 07:16:25 -0400 (Wed, 02 Apr 2025) EllapsedTime: 98.5 seconds RetCode: 0 Status: OK CheckDir: safe.Rcheck Warnings: 0